BEGIN:VCALENDAR
VERSION:2.0
PRODID:EVENTFROG//EVENT//ICAL
BEGIN:VEVENT
UID:20260425T203342Z-7440398910953128991@eventfrog.de
DTSTAMP:20260425T203342Z
DTSTART:20260503T113000Z
DTEND:20260503T123000Z
SUMMARY:Masterclass «Supertuscans»
DESCRIPTION:Super Tuscans im Mittelpunkt: Mats van de Steenoven (Terravigna) zeigt ikonische Weine mit ihrer Herkunft, Stilistik und Faktoren, die sie zu international gefeierten Kultgewächsen gemacht haben.\n\nhttps://eventfrog.de/de/p/essen-trinken/masterclass-supertuscans-7440398910953128991.html
LOCATION:SHED Wine
GEO:47.175761;8.514769
URL:https://eventfrog.de/de/p/essen-trinken/masterclass-supertuscans-7440398910953128991.html
END:VEVENT
END:VCALENDAR