BEGIN:VCALENDAR
VERSION:2.0
PRODID:EVENTFROG//EVENT//ICAL
BEGIN:VEVENT
UID:20260425T203303Z-7440400659688513870@eventfrog.de
DTSTAMP:20260425T203303Z
DTSTART:20260503T133000Z
DTEND:20260503T143000Z
SUMMARY:Masterclass «Terravigna Icons & Rarities»
DESCRIPTION:Eine Masterclass für echte Weinliebhaber: Mats van de Steenoven von Terravigna präsentiert rare Spitzenweine und aussergewöhnliche Ikonen, begleitet von fundierten Einblicken grosser Weinqualität.\n\nhttps://eventfrog.de/de/p/essen-trinken/masterclass-terravigna-icons-rarities-7440400659688513870.html
LOCATION:SHED Wine
GEO:47.175761;8.514769
URL:https://eventfrog.de/de/p/essen-trinken/masterclass-terravigna-icons-rarities-7440400659688513870.html
END:VEVENT
END:VCALENDAR