BEGIN:VCALENDAR
VERSION:2.0
PRODID:EVENTFROG//EVENT//ICAL
BEGIN:VEVENT
UID:20260422T093516Z-7440437511506115441@eventfrog.de
DTSTAMP:20260422T093516Z
DTSTART:20260926T163000Z
DTEND:20260926T190000Z
SUMMARY:Vernissage «Future Fashion»
DESCRIPTION:Sie sind herzlich zur Eröffnung der Ausstellung «Future Fashion» eingeladen.\n\nhttps://eventfrog.de/de/p/kunst-ausstellungen/vernissage/vernissage-future-fashion-7440437511506115441.html
LOCATION:Kornhausforum Bern
GEO:46.948827;7.447247
URL:https://eventfrog.de/de/p/kunst-ausstellungen/vernissage/vernissage-future-fashion-7440437511506115441.html
END:VEVENT
END:VCALENDAR