BEGIN:VCALENDAR
VERSION:2.0
PRODID:EVENTFROG//EVENT//ICAL
BEGIN:VEVENT
UID:20260422T093515Z-7440438014960994484@eventfrog.de
DTSTAMP:20260422T093515Z
DTSTART:20260903T163000Z
DTEND:20260903T190000Z
SUMMARY:Vernissage «Beat Jost – Schöne neue Welt»
DESCRIPTION:Sie sind herzlich zur Eröffnung der Ausstellung «Beat Jost – Schöne neue Welt» eingeladen.\n\nhttps://eventfrog.de/de/p/kunst-ausstellungen/vernissage/vernissage-beat-jost-schoene-neue-welt-7440438014960994484.html
LOCATION:Kornhausforum Bern
GEO:46.948827;7.447247
URL:https://eventfrog.de/de/p/kunst-ausstellungen/vernissage/vernissage-beat-jost-schoene-neue-welt-7440438014960994484.html
END:VEVENT
END:VCALENDAR