BEGIN:VCALENDAR
VERSION:2.0
PRODID:EVENTFROG//EVENT//ICAL
BEGIN:VEVENT
UID:20260425T203342Z-7440495526624134502@eventfrog.de
DTSTAMP:20260425T203342Z
DTSTART:20261211T220000Z
DTEND:20261212T050000Z
SUMMARY:RVNZ.project  Kinker 11.12.26   16+
DESCRIPTION:RVNZ.project \n\nhttps://eventfrog.de/de/p/partys/house-techno/rvnz-project-kinker-11-12-26-16-7440495526624134502.html
LOCATION:KINKER
GEO:47.530678;7.607142
URL:https://eventfrog.de/de/p/partys/house-techno/rvnz-project-kinker-11-12-26-16-7440495526624134502.html
END:VEVENT
END:VCALENDAR