BEGIN:VCALENDAR
VERSION:2.0
PRODID:EVENTFROG//EVENT//ICAL
BEGIN:VEVENT
UID:20260425T205137Z-7440717038643873427@eventfrog.de
DTSTAMP:20260425T205137Z
DTSTART:20260429T120000Z
SUMMARY:Kinderlesung mit Heike Kramer: Der kleine Drache Kokosnuss
DESCRIPTION:Es werden Geschichten vorgelesen, während die Kinder malen, basteln, rätseln, mitsingen oder einfach dabei sein können. Eintritt frei.\n\nhttps://eventfrog.de/de/p/kinderveranstaltungen/familienveranstaltungen/kinderlesung-mit-heike-kramer-der-kleine-drache-kokosnuss-7440717038643873427.html
LOCATION:Metalli Zug
GEO:47.172545;8.517250
URL:https://eventfrog.de/de/p/kinderveranstaltungen/familienveranstaltungen/kinderlesung-mit-heike-kramer-der-kleine-drache-kokosnuss-7440717038643873427.html
END:VEVENT
END:VCALENDAR