BEGIN:VCALENDAR
VERSION:2.0
PRODID:EVENTFROG//EVENT//ICAL
BEGIN:VEVENT
UID:20260422T013149Z-7440737443752484715@eventfrog.de
DTSTAMP:20260422T013149Z
DTSTART:20260425T200000Z
DTEND:20260426T020000Z
SUMMARY:*hit happens Party / Caverno Bülach
DESCRIPTION:Freut Euch auf ein Wiederhören der besten BRAVO Hits der 2000er & 2010er.\n\nhttps://eventfrog.de/de/p/partys/10-s/hit-happens-party-caverno-buelach-7440737443752484715.html
LOCATION:Caverno Bülach
GEO:47.508061;8.539978
URL:https://eventfrog.de/de/p/partys/10-s/hit-happens-party-caverno-buelach-7440737443752484715.html
END:VEVENT
END:VCALENDAR