BEGIN:VCALENDAR
VERSION:2.0
PRODID:EVENTFROG//EVENT//ICAL
BEGIN:VEVENT
UID:20260422T013301Z-7440885383431208071@eventfrog.de
DTSTAMP:20260422T013301Z
DTSTART:20260502T070000Z
DTEND:20260502T100000Z
SUMMARY:Muttertagsbasteln für jedes Alter
DESCRIPTION:Gemeinsames basteln wir ein schönes Muttertagsgeschenkt. Wir haben viele tolle Ideen und freuen uns auch euch! \n\nhttps://eventfrog.de/de/p/kinderveranstaltungen/kurs/muttertagsbasteln-fuer-jedes-alter-7440885383431208071.html
LOCATION:MZG Sandbuck (grosser Saal)
GEO:47.509217;8.473312
URL:https://eventfrog.de/de/p/kinderveranstaltungen/kurs/muttertagsbasteln-fuer-jedes-alter-7440885383431208071.html
END:VEVENT
END:VCALENDAR