BEGIN:VCALENDAR
VERSION:2.0
PRODID:EVENTFROG//EVENT//ICAL
BEGIN:VEVENT
UID:20260425T203343Z-7441243174457095542@eventfrog.de
DTSTAMP:20260425T203343Z
DTSTART:20260502T073000Z
DTEND:20260502T093000Z
SUMMARY:Ziele setzen – Klarheit gewinnen und ins Handeln kommen
DESCRIPTION:In diesem Workshop entwickeln Sie Ziele, die wirklich zu Ihnen passen – klar, motivierend und realistisch. Durch kurze Inputs und praktische Übungen gewinnen Sie Klarheit für Ihren nächsten Schritt.\n\nhttps://eventfrog.de/de/p/kurse-seminare/coaching/ziele-setzen-klarheit-gewinnen-und-ins-handeln-kommen-7441243174457095542.html
LOCATION:SO20 - Haus des Lernens
GEO:47.164611;8.514844
URL:https://eventfrog.de/de/p/kurse-seminare/coaching/ziele-setzen-klarheit-gewinnen-und-ins-handeln-kommen-7441243174457095542.html
END:VEVENT
END:VCALENDAR