BEGIN:VCALENDAR
VERSION:2.0
PRODID:EVENTFROG//EVENT//ICAL
BEGIN:VEVENT
UID:20260421T235127Z-7441393448542815388@eventfrog.de
DTSTAMP:20260421T235127Z
DTSTART:20260606T170000Z
DTEND:20260606T210000Z
SUMMARY:Das perfekte Schlager Dinner Aalen –  Live Show & Musik
DESCRIPTION:Schlager Dinner\nAalen Event\nDinnershow\nLive Musik\nSchlager Show\n\nhttps://eventfrog.de/de/p/konzerte/pop-rock/das-perfekte-schlager-dinner-aalen-live-show-musik-7441393448542815388.html
LOCATION:Hotel Das Goldene Lamm
GEO:48.817640;10.127030
URL:https://eventfrog.de/de/p/konzerte/pop-rock/das-perfekte-schlager-dinner-aalen-live-show-musik-7441393448542815388.html
END:VEVENT
END:VCALENDAR