BEGIN:VCALENDAR
VERSION:2.0
PRODID:EVENTFROG//EVENT//ICAL
BEGIN:VEVENT
UID:20260421T235130Z-7441405873547641145@eventfrog.de
DTSTAMP:20260421T235130Z
DTSTART:20261113T180000Z
DTEND:20261113T220000Z
SUMMARY:Das perfekte Schlager Dinner Ballenstedt – Live Show & Musik
DESCRIPTION:Das perfekte Schlager Dinner in Ballenstedt: Interaktive Dinnershow mit Live-Musik, den größten Schlagerhits, Mehrgangmenü und Getränkepauschale. Mitsingen, mitfeiern und genießen!\n\nhttps://eventfrog.de/de/p/konzerte/pop-rock/das-perfekte-schlager-dinner-ballenstedt-live-show-musik-7441405873547641145.html
LOCATION:Schloßtheater
GEO:51.717990;11.219765
URL:https://eventfrog.de/de/p/konzerte/pop-rock/das-perfekte-schlager-dinner-ballenstedt-live-show-musik-7441405873547641145.html
END:VEVENT
END:VCALENDAR