BEGIN:VCALENDAR
VERSION:2.0
PRODID:EVENTFROG//EVENT//ICAL
BEGIN:VEVENT
UID:20260421T235131Z-7441406986585960806@eventfrog.de
DTSTAMP:20260421T235131Z
DTSTART:20261114T180000Z
DTEND:20261114T220000Z
SUMMARY:Das perfekte Schlager Dinner Apolda – Live Show & Musik
DESCRIPTION:Das perfekte Schlager Dinner in Apolda: Interaktive Dinnershow mit Live-Musik, den größten Schlagerhits und Mehrgangmenü. Mitsingen, mitfeiern und genießen!\n\nhttps://eventfrog.de/de/p/konzerte/pop-rock/das-perfekte-schlager-dinner-apolda-live-show-musik-7441406986585960806.html
LOCATION:Hotel am Schloss Apolda
GEO:51.021449;11.514882
URL:https://eventfrog.de/de/p/konzerte/pop-rock/das-perfekte-schlager-dinner-apolda-live-show-musik-7441406986585960806.html
END:VEVENT
END:VCALENDAR