BEGIN:VCALENDAR
VERSION:2.0
PRODID:EVENTFROG//EVENT//ICAL
BEGIN:VEVENT
UID:20260421T203626Z-7441407828986730716@eventfrog.de
DTSTAMP:20260421T203626Z
DTSTART:20261120T230000Z
SUMMARY:Das perfekte Schlager Dinner Waren (Müritz) – Live Show & Mu
DESCRIPTION:Das perfekte Schlager Dinner in Waren (Müritz): Interaktive Dinnershow mit Live-Musik, den größten Schlagerhits und Menü. Mitsingen, mitfeiern und genießen!\n\nhttps://eventfrog.de/de/p/konzerte/schlager-volksmusik/das-perfekte-schlager-dinner-waren-mueritz-live-show-mu-7441407828986730716.html
LOCATION:Seehotel Ecktannen
GEO:53.500324;12.670292
URL:https://eventfrog.de/de/p/konzerte/schlager-volksmusik/das-perfekte-schlager-dinner-waren-mueritz-live-show-mu-7441407828986730716.html
END:VEVENT
END:VCALENDAR