BEGIN:VCALENDAR
VERSION:2.0
PRODID:EVENTFROG//EVENT//ICAL
BEGIN:VEVENT
UID:20260421T191749Z-7441427661824510720@eventfrog.de
DTSTAMP:20260421T191749Z
DTSTART:20261113T180000Z
DTEND:20261113T220000Z
SUMMARY:Das perfekte ABBA Dinner Naumburg – Live Show & Musik
DESCRIPTION:Das perfekte ABBA Dinner in Naumburg: Interaktive Dinnershow mit Live-Musik, den größten ABBA-Hits und Mehrgangmenü. Mitsingen, mitfeiern und genießen!\n\nhttps://eventfrog.de/de/p/konzerte/pop-rock/das-perfekte-abba-dinner-naumburg-live-show-musik-7441427661824510720.html
LOCATION:Hallescher Anger 1
GEO:51.161527;11.828030
URL:https://eventfrog.de/de/p/konzerte/pop-rock/das-perfekte-abba-dinner-naumburg-live-show-musik-7441427661824510720.html
END:VEVENT
END:VCALENDAR