BEGIN:VCALENDAR
VERSION:2.0
PRODID:EVENTFROG//EVENT//ICAL
BEGIN:VEVENT
UID:20260425T201225Z-7441685200294159986@eventfrog.de
DTSTAMP:20260425T201225Z
DTSTART:20260620T130000Z
DTEND:20260620T150000Z
SUMMARY:Kammermusikfest Dialoge - Basler Streichquartett meets KaMuS
DESCRIPTION:Werke u.A. von Mendelssohn, Dohnanyi, Boccherini, Schumann, Brahms, Granados, Vaughan Williams, Barwinski, Franck, Saint-Saëns\n\nhttps://eventfrog.de/de/p/klassik-opern/klassik/kammermusikfest-dialoge-basler-streichquartett-meets-kamus-7441685200294159986.html
LOCATION:Don Bosco Basel
GEO:47.554234;7.609151
URL:https://eventfrog.de/de/p/klassik-opern/klassik/kammermusikfest-dialoge-basler-streichquartett-meets-kamus-7441685200294159986.html
END:VEVENT
END:VCALENDAR