BEGIN:VCALENDAR
VERSION:2.0
PRODID:EVENTFROG//EVENT//ICAL
BEGIN:VEVENT
UID:20260422T203228Z-7441792173152992842@eventfrog.de
DTSTAMP:20260422T203228Z
DTSTART:20261222T130000Z
DTEND:20261222T150000Z
SUMMARY:Handarbeitsnachmittag
DESCRIPTION:Oder für sich selbst etwas machen; vielleicht brauchst du Hilfe, wo du nicht weiterkommst. Schau doch mal rein!\n\nhttps://eventfrog.de/de/p/diverses/handarbeitsnachmittag-7441792173152992842.html
LOCATION:Neue Reformierte Kirche
GEO:47.381854;8.424812
URL:https://eventfrog.de/de/p/diverses/handarbeitsnachmittag-7441792173152992842.html
END:VEVENT
END:VCALENDAR