BEGIN:VCALENDAR
VERSION:2.0
PRODID:EVENTFROG//EVENT//ICAL
BEGIN:VEVENT
UID:20260422T203211Z-7441792173215907403@eventfrog.de
DTSTAMP:20260422T203211Z
DTSTART:20270105T130000Z
DTEND:20270105T150000Z
SUMMARY:Handarbeitsnachmittag
DESCRIPTION:Oder für sich selbst etwas machen; vielleicht brauchst du Hilfe, wo du nicht weiterkommst. Schau doch mal rein!\n\nhttps://eventfrog.de/de/p/diverses/handarbeitsnachmittag-7441792173215907403.html
LOCATION:Neue Reformierte Kirche
GEO:47.381854;8.424812
URL:https://eventfrog.de/de/p/diverses/handarbeitsnachmittag-7441792173215907403.html
END:VEVENT
END:VCALENDAR