BEGIN:VCALENDAR
VERSION:2.0
PRODID:EVENTFROG//EVENT//ICAL
BEGIN:VEVENT
UID:20260422T203238Z-7441792173417233998@eventfrog.de
DTSTAMP:20260422T203238Z
DTSTART:20270216T130000Z
DTEND:20270216T150000Z
SUMMARY:Handarbeitsnachmittag
DESCRIPTION:Oder für sich selbst etwas machen; vielleicht brauchst du Hilfe, wo du nicht weiterkommst. Schau doch mal rein!\n\nhttps://eventfrog.de/de/p/diverses/handarbeitsnachmittag-7441792173417233998.html
LOCATION:Neue Reformierte Kirche
GEO:47.381854;8.424812
URL:https://eventfrog.de/de/p/diverses/handarbeitsnachmittag-7441792173417233998.html
END:VEVENT
END:VCALENDAR