BEGIN:VCALENDAR
VERSION:2.0
PRODID:EVENTFROG//EVENT//ICAL
BEGIN:VEVENT
UID:20260422T013154Z-7441796155019640557@eventfrog.de
DTSTAMP:20260422T013154Z
DTSTART:20260924T180000Z
DTEND:20260924T200000Z
SUMMARY:Fabian Unteregger - Fachkräftemangel
DESCRIPTION:Fabian Unteregger - Fachkräftemangel / Comedy im Caverno Bülach\n\nhttps://eventfrog.de/de/p/theater-buehne/comedy-kabarett/fabian-unteregger-fachkraeftemangel-7441796155019640557.html
LOCATION:Caverno Bülach
GEO:47.508061;8.539978
URL:https://eventfrog.de/de/p/theater-buehne/comedy-kabarett/fabian-unteregger-fachkraeftemangel-7441796155019640557.html
END:VEVENT
END:VCALENDAR