BEGIN:VCALENDAR
VERSION:2.0
PRODID:EVENTFROG//EVENT//ICAL
BEGIN:VEVENT
UID:20260422T203238Z-7441803224271560824@eventfrog.de
DTSTAMP:20260422T203238Z
DTSTART:20261006T070000Z
DTEND:20261006T080000Z
SUMMARY:Gymnastik für Seniorinnen/Senioren
DESCRIPTION:Kontakt: Renate Kritzer 044 777 15 15\n\nhttps://eventfrog.de/de/p/sport-fitness/turnen/gymnastik-fuer-seniorinnen-senioren-7441803224271560824.html
LOCATION:Neue Reformierte Kirche
GEO:47.381854;8.424812
URL:https://eventfrog.de/de/p/sport-fitness/turnen/gymnastik-fuer-seniorinnen-senioren-7441803224271560824.html
END:VEVENT
END:VCALENDAR