BEGIN:VCALENDAR
VERSION:2.0
PRODID:EVENTFROG//EVENT//ICAL
BEGIN:VEVENT
UID:20260422T205505Z-7441803225500491935@eventfrog.de
DTSTAMP:20260422T205505Z
DTSTART:20270216T080000Z
DTEND:20270216T090000Z
SUMMARY:Gymnastik für Seniorinnen/Senioren
DESCRIPTION:Kontakt: Renate Kritzer 044 777 15 15\n\nhttps://eventfrog.de/de/p/sport-fitness/turnen/gymnastik-fuer-seniorinnen-senioren-7441803225500491935.html
LOCATION:Neue Reformierte Kirche
GEO:47.381854;8.424812
URL:https://eventfrog.de/de/p/sport-fitness/turnen/gymnastik-fuer-seniorinnen-senioren-7441803225500491935.html
END:VEVENT
END:VCALENDAR