BEGIN:VCALENDAR
VERSION:2.0
PRODID:EVENTFROG//EVENT//ICAL
BEGIN:VEVENT
UID:20260425T203339Z-7441824231287951357@eventfrog.de
DTSTAMP:20260425T203339Z
DTSTART:20260627T200000Z
DTEND:20260726T200000Z
SUMMARY:Zug Magic
DESCRIPTION:Magische Momente am See, spektakuläre Wasser und Lichtspiele unterlegt mit passender Musik. \n\nhttps://eventfrog.de/de/p/freizeit-ausfluege/sonstige-veranstaltungen/zug-magic-7441824231287951357.html
LOCATION:Rössliwiese, Zug
GEO:47.168651;8.514432
URL:https://eventfrog.de/de/p/freizeit-ausfluege/sonstige-veranstaltungen/zug-magic-7441824231287951357.html
END:VEVENT
END:VCALENDAR