BEGIN:VCALENDAR
VERSION:2.0
PRODID:EVENTFROG//EVENT//ICAL
BEGIN:VEVENT
UID:20260425T201232Z-7442118322680778094@eventfrog.de
DTSTAMP:20260425T201232Z
DTSTART:20260509T070000Z
DTEND:20260509T100000Z
SUMMARY:Buurezmorge auf dem Hof Adlerzart mit Hofführung
DESCRIPTION:Komm zum WWF Buurezmorge und erlebe Landwirtschaft mal anders! \n\nhttps://eventfrog.de/de/p/fuehrungen-vortraege/fuehrung/buurezmorge-auf-dem-hof-adlerzart-mit-hoffuehrung-7442118322680778094.html
LOCATION:Hof Adlerzart
GEO:47.163319;8.409889
URL:https://eventfrog.de/de/p/fuehrungen-vortraege/fuehrung/buurezmorge-auf-dem-hof-adlerzart-mit-hoffuehrung-7442118322680778094.html
END:VEVENT
END:VCALENDAR