BEGIN:VCALENDAR
VERSION:2.0
PRODID:EVENTFROG//EVENT//ICAL
BEGIN:VEVENT
UID:20260422T220130Z-7442191655266974788@eventfrog.de
DTSTAMP:20260422T220130Z
DTSTART:20260930T120000Z
DTEND:20260930T150000Z
SUMMARY:Secondhand ist Trend! Kleiderbörse
DESCRIPTION:Kleider-Annahme:Mo.28.9. 18:30-20Uhr / Di.29.9.. 9-11Uhr und 14-16 Uhr / Mi.30.9..9-11 Uhr\n\nVerkauf:Di.29.9. 17-20 Uhr / Mi.30.9..9-11 Uhr und 14-17 Uhr\n\nhttps://eventfrog.de/de/p/diverses/secondhand-ist-trend-kleiderboerse-7442191655266974788.html
LOCATION:Embrisaal
GEO:47.387005;8.425472
URL:https://eventfrog.de/de/p/diverses/secondhand-ist-trend-kleiderboerse-7442191655266974788.html
END:VEVENT
END:VCALENDAR