BEGIN:VCALENDAR
VERSION:2.0
PRODID:EVENTFROG//EVENT//ICAL
BEGIN:VEVENT
UID:20260422T220206Z-7442196418654164179@eventfrog.de
DTSTAMP:20260422T220206Z
DTSTART:20260519T163000Z
DTEND:20260519T183000Z
SUMMARY:Frühlings-Treffen vom Frauenverein Urdorf
DESCRIPTION:Nichtmitglieder sind mit einem kleinen Unkostenbeitrag herzlich willkommen. \nAnmeldung  bis 8.Mai auf info@frauenvereinurdorf.ch oder 044 734 36 37.\n\nhttps://eventfrog.de/de/p/essen-trinken/fruehlings-treffen-vom-frauenverein-urdorf-7442196418654164179.html
LOCATION:Neue Reformierte Kirche
GEO:47.381854;8.424812
URL:https://eventfrog.de/de/p/essen-trinken/fruehlings-treffen-vom-frauenverein-urdorf-7442196418654164179.html
END:VEVENT
END:VCALENDAR