BEGIN:VCALENDAR
VERSION:2.0
PRODID:EVENTFROG//EVENT//ICAL
BEGIN:VEVENT
UID:20260422T220359Z-7442199370408194884@eventfrog.de
DTSTAMP:20260422T220359Z
DTSTART:20260924T163000Z
DTEND:20260924T183000Z
SUMMARY:Herbst-Treffen vom Frauenverein Urdorf
DESCRIPTION:Nichtmitglieder sind mit einem kleinen Unkostenbeitrag herzlich willkommen. Anmeldung bis 13.September an info@frauenvereinurdorf.ch oder 044 734 36 37\n\nhttps://eventfrog.de/de/p/essen-trinken/herbst-treffen-vom-frauenverein-urdorf-7442199370408194884.html
LOCATION:Neue Reformierte Kirche
GEO:47.381854;8.424812
URL:https://eventfrog.de/de/p/essen-trinken/herbst-treffen-vom-frauenverein-urdorf-7442199370408194884.html
END:VEVENT
END:VCALENDAR