BEGIN:VCALENDAR
VERSION:2.0
PRODID:EVENTFROG//EVENT//ICAL
BEGIN:VEVENT
UID:20260422T203238Z-7442201775015249340@eventfrog.de
DTSTAMP:20260422T203238Z
DTSTART:20261114T080000Z
DTEND:20261114T150000Z
SUMMARY:Weihnachts-Basar
DESCRIPTION:www.frauenvereinurdorf.ch\n\nhttps://eventfrog.de/de/p/maerkte/weihnachtsmarkt/weihnachts-basar-7442201775015249340.html
LOCATION:Neue Reformierte Kirche
GEO:47.381854;8.424812
URL:https://eventfrog.de/de/p/maerkte/weihnachtsmarkt/weihnachts-basar-7442201775015249340.html
END:VEVENT
END:VCALENDAR