BEGIN:VCALENDAR
VERSION:2.0
PRODID:EVENTFROG//EVENT//ICAL
BEGIN:VEVENT
UID:20260422T203125Z-7442202824987948865@eventfrog.de
DTSTAMP:20260422T203125Z
DTSTART:20261212T130000Z
DTEND:20261212T160000Z
SUMMARY:Adventsfeier für Urdorfer Seniorinnen/Senioren
DESCRIPTION:www.frauenvereinurdorf.ch\n\nhttps://eventfrog.de/de/p/essen-trinken/adventsfeier-fuer-urdorfer-seniorinnen-senioren-7442202824987948865.html
LOCATION:Neue Reformierte Kirche
GEO:47.381854;8.424812
URL:https://eventfrog.de/de/p/essen-trinken/adventsfeier-fuer-urdorfer-seniorinnen-senioren-7442202824987948865.html
END:VEVENT
END:VCALENDAR