BEGIN:VCALENDAR
VERSION:2.0
PRODID:EVENTFROG//EVENT//ICAL
BEGIN:VEVENT
UID:20260424T110704Z-7442238454870622743@eventfrog.de
DTSTAMP:20260424T110704Z
DTSTART:20260426T143000Z
DTEND:20260426T160000Z
SUMMARY:Krimi -Lesung und Torte!
DESCRIPTION:Cuxhaven-Krimi-Lesung Flammen der Täuschung in den Seeterrassen\n\nhttps://eventfrog.de/de/p/theater-buehne/lesung/krimi-lesung-und-torte-7442238454870622743.html
LOCATION:Seeterrassen
GEO:53.876202;8.697413
URL:https://eventfrog.de/de/p/theater-buehne/lesung/krimi-lesung-und-torte-7442238454870622743.html
END:VEVENT
END:VCALENDAR