BEGIN:VCALENDAR
VERSION:2.0
PRODID:EVENTFROG//EVENT//ICAL
BEGIN:VEVENT
UID:20260419T143139Z-7442343741820504694@eventfrog.de
DTSTAMP:20260419T143139Z
DTSTART:20260419T140000Z
DTEND:20260419T160000Z
SUMMARY:Die Kinder aus der Silberstraße
DESCRIPTION:Die Kinder aus der Silberstraße\n\nhttps://eventfrog.de/de/p/freizeit-ausfluege/die-kinder-aus-der-silberstrasse-7442343741820504694.html
LOCATION:Zebra Kino
GEO:47.679187;9.163371
URL:https://eventfrog.de/de/p/freizeit-ausfluege/die-kinder-aus-der-silberstrasse-7442343741820504694.html
END:VEVENT
END:VCALENDAR