BEGIN:VCALENDAR
VERSION:2.0
PRODID:EVENTFROG//EVENT//ICAL
BEGIN:VEVENT
UID:20260419T143136Z-7442343741988276855@eventfrog.de
DTSTAMP:20260419T143136Z
DTSTART:20260510T140000Z
DTEND:20260510T154500Z
SUMMARY:Hola Frida
DESCRIPTION:Hola Frida\n\nhttps://eventfrog.de/de/p/freizeit-ausfluege/hola-frida-7442343741988276855.html
LOCATION:Zebra Kino
GEO:47.679187;9.163371
URL:https://eventfrog.de/de/p/freizeit-ausfluege/hola-frida-7442343741988276855.html
END:VEVENT
END:VCALENDAR