BEGIN:VCALENDAR
VERSION:2.0
PRODID:EVENTFROG//EVENT//ICAL
BEGIN:VEVENT
UID:20260419T143139Z-7442343742172826232@eventfrog.de
DTSTAMP:20260419T143139Z
DTSTART:20260531T140000Z
DTEND:20260531T154500Z
SUMMARY:Zirkuskind
DESCRIPTION:Zirkuskind\n\nhttps://eventfrog.de/de/p/freizeit-ausfluege/zirkuskind-7442343742172826232.html
LOCATION:Zebra Kino
GEO:47.679187;9.163371
URL:https://eventfrog.de/de/p/freizeit-ausfluege/zirkuskind-7442343742172826232.html
END:VEVENT
END:VCALENDAR