BEGIN:VCALENDAR
VERSION:2.0
PRODID:EVENTFROG//EVENT//ICAL
BEGIN:VEVENT
UID:20260426T015022Z-7442510178161849931@eventfrog.de
DTSTAMP:20260426T015022Z
DTSTART:20260516T180000Z
DTEND:20260516T200000Z
SUMMARY:die Irrungen der weiblichen Hysterie
DESCRIPTION:Rita Winter erklärt in einem Solostück humorvoll, wie das Wischen auf Dating-Apps Singles auf der Suche nach Liebe oder Freundschaft prägt.\n\nhttps://eventfrog.de/de/p/theater-buehne/comedy-kabarett/die-irrungen-der-weiblichen-hysterie-7442510178161849931.html
LOCATION:Schauspielhaus Bergneustadt
GEO:51.021199;7.655941
URL:https://eventfrog.de/de/p/theater-buehne/comedy-kabarett/die-irrungen-der-weiblichen-hysterie-7442510178161849931.html
END:VEVENT
END:VCALENDAR