BEGIN:VCALENDAR
VERSION:2.0
PRODID:EVENTFROG//EVENT//ICAL
BEGIN:VEVENT
UID:20260422T013153Z-7442523336591049644@eventfrog.de
DTSTAMP:20260422T013153Z
DTSTART:20261106T190000Z
DTEND:20261106T225900Z
SUMMARY:exklusive Sauna-Nacht "Oriental Dreams"
DESCRIPTION:Am 6.11. bietet Wellness Hirslen einen orientalischen Saunanacht-Abend mit Aroma-Aufgüssen, Wellness-Extras und Apéro.\n\nhttps://eventfrog.de/de/p/gesundheit-spiritualitaet/gesundheit-wohlbefinden/exklusive-sauna-nacht-oriental-dreams-7442523336591049644.html
LOCATION:Sportzentrum Hirslen
GEO:47.521965;8.525668
URL:https://eventfrog.de/de/p/gesundheit-spiritualitaet/gesundheit-wohlbefinden/exklusive-sauna-nacht-oriental-dreams-7442523336591049644.html
END:VEVENT
END:VCALENDAR