BEGIN:VCALENDAR
VERSION:2.0
PRODID:EVENTFROG//EVENT//ICAL
BEGIN:VEVENT
UID:20260422T013144Z-7442528095804870550@eventfrog.de
DTSTAMP:20260422T013144Z
DTSTART:20261211T190000Z
DTEND:20261211T225900Z
SUMMARY:exklusive Sauna-Nacht "Tropical Breeze"
DESCRIPTION:Am 11.12.2026 führt die Saunameisterin durch einen exklusiven tropischen Saunaabend mit Aufgüssen, Extras und Apéro im Wellness Hirslen.\n\nhttps://eventfrog.de/de/p/gesundheit-spiritualitaet/wellness/exklusive-sauna-nacht-tropical-breeze-7442528095804870550.html
LOCATION:Sportzentrum Hirslen
GEO:47.521965;8.525668
URL:https://eventfrog.de/de/p/gesundheit-spiritualitaet/wellness/exklusive-sauna-nacht-tropical-breeze-7442528095804870550.html
END:VEVENT
END:VCALENDAR