BEGIN:VCALENDAR
VERSION:2.0
PRODID:EVENTFROG//EVENT//ICAL
BEGIN:VEVENT
UID:20260422T013146Z-7442634844914365377@eventfrog.de
DTSTAMP:20260422T013146Z
DTSTART:20260801T070000Z
DTEND:20260801T110000Z
SUMMARY:1. August Brunch
DESCRIPTION:1. August Brunch auf Bauernhof\n\nhttps://eventfrog.de/de/p/essen-trinken/1-august-brunch-7442634844914365377.html
LOCATION:Seeholz Beizli
GEO:47.437696;8.500908
URL:https://eventfrog.de/de/p/essen-trinken/1-august-brunch-7442634844914365377.html
END:VEVENT
END:VCALENDAR