BEGIN:VCALENDAR
VERSION:2.0
PRODID:EVENTFROG//EVENT//ICAL
BEGIN:VEVENT
UID:20260425T122048Z-7442706501381174600@eventfrog.de
DTSTAMP:20260425T122048Z
DTSTART:20260425T170000Z
SUMMARY:Camerata Serena
DESCRIPTION:Camerata Serena\n\nhttps://eventfrog.de/de/p/konzerte/camerata-serena-7442706501381174600.html
LOCATION:ev. Gnadenkirche
GEO:47.717698;9.066422
URL:https://eventfrog.de/de/p/konzerte/camerata-serena-7442706501381174600.html
END:VEVENT
END:VCALENDAR