BEGIN:VCALENDAR
VERSION:2.0
PRODID:EVENTFROG//EVENT//ICAL
BEGIN:VEVENT
UID:20260425T220053Z-7442850999230805850@eventfrog.de
DTSTAMP:20260425T220053Z
DTSTART:20260610T163000Z
DTEND:20260610T180000Z
SUMMARY:Trinkwasserversorgung Zug
DESCRIPTION:Auf einer Führung im Lorzentobel Zug besichtigen Sie eine Brunnenstube und ein Reservoir und erfahren viel Spannendes über Trinkwasser.\n\nhttps://eventfrog.de/de/p/fuehrungen-vortraege/fuehrung/trinkwasserversorgung-zug-7442850999230805850.html
LOCATION:Reservoir Lorzentobel
GEO:47.179540;8.552902
URL:https://eventfrog.de/de/p/fuehrungen-vortraege/fuehrung/trinkwasserversorgung-zug-7442850999230805850.html
END:VEVENT
END:VCALENDAR