BEGIN:VCALENDAR
VERSION:2.0
PRODID:EVENTFROG//EVENT//ICAL
BEGIN:VEVENT
UID:20260425T221939Z-7442856636782273089@eventfrog.de
DTSTAMP:20260425T221939Z
DTSTART:20260529T120000Z
DTEND:20260529T131500Z
SUMMARY:Kleinwasserkraftwerk Untermühle
DESCRIPTION:Hier fügen sich alt und neu zu einer spannenden Einheit zusammen. Im Kraftwerk an der unteren Lorze erfahren Sie, wie sich die Stromproduktion aus Wasserkraft in den letzten 100 Jahren verändert hat.\n\nhttps://eventfrog.de/de/p/fuehrungen-vortraege/fuehrung/kleinwasserkraftwerk-untermuehle-7442856636782273089.html
LOCATION:Kleinwasserkraftwerk Cham
GEO:47.196450;8.446208
URL:https://eventfrog.de/de/p/fuehrungen-vortraege/fuehrung/kleinwasserkraftwerk-untermuehle-7442856636782273089.html
END:VEVENT
END:VCALENDAR