BEGIN:VCALENDAR
VERSION:2.0
PRODID:EVENTFROG//EVENT//ICAL
BEGIN:VEVENT
UID:20260425T221851Z-7442857963331546748@eventfrog.de
DTSTAMP:20260425T221851Z
DTSTART:20261022T163000Z
DTEND:20261022T174500Z
SUMMARY:Kleinwasserkraftwerk Untermühle
DESCRIPTION:Hier fügen sich alt und neu zu einer spannenden Einheit zusammen. Im Kraftwerk an der unteren Lorze erfahren Sie, wie sich die Stromproduktion aus Wasserkraft in den letzten 100 Jahren verändert hat.\n\nhttps://eventfrog.de/de/p/fuehrungen-vortraege/fuehrung/kleinwasserkraftwerk-untermuehle-7442857963331546748.html
LOCATION:Kleinwasserkraftwerk Cham
GEO:47.196450;8.446208
URL:https://eventfrog.de/de/p/fuehrungen-vortraege/fuehrung/kleinwasserkraftwerk-untermuehle-7442857963331546748.html
END:VEVENT
END:VCALENDAR