BEGIN:VCALENDAR
VERSION:2.0
PRODID:EVENTFROG//EVENT//ICAL
BEGIN:VEVENT
UID:20260422T013149Z-7442885679686629885@eventfrog.de
DTSTAMP:20260422T013149Z
DTSTART:20260424T120000Z
DTEND:20260424T150000Z
SUMMARY:Kinderplausch 2026
DESCRIPTION:Tauche ein ins spannende Leben auf dem Bauernhof und geniesse eine Zeit voller biblischer Geschichten, Theater, Singen, Basteln, Spiel, Sport und erlebe viele Abenteuer! Wir freuen und auf dich!\n\nhttps://eventfrog.de/de/p/kinderveranstaltungen/ferienprogramm/kinderplausch-2026-7442885679686629885.html
LOCATION:Ev.-methodistische Kirche Bülach
GEO:47.520319;8.536386
URL:https://eventfrog.de/de/p/kinderveranstaltungen/ferienprogramm/kinderplausch-2026-7442885679686629885.html
END:VEVENT
END:VCALENDAR