BEGIN:VCALENDAR
VERSION:2.0
PRODID:EVENTFROG//EVENT//ICAL
BEGIN:VEVENT
UID:20260421T001348Z-7442912834176948615@eventfrog.de
DTSTAMP:20260421T001348Z
DTSTART:20260602T160000Z
DTEND:20260606T210000Z
SUMMARY:ANTE Konzertreihe
DESCRIPTION:Die ANTE Konzertreihe lädt dazu ein, auf dem wunderschönen Bäumli in Winterthur mit Freund:innen und Familie Live-Musik zu erleben.\n\nhttps://eventfrog.de/de/p/konzerte/indie-alternative/ante-konzertreihe-7442912834176948615.html
LOCATION:Bäumli Aussichtsterrasse
GEO:47.505188;8.742442
URL:https://eventfrog.de/de/p/konzerte/indie-alternative/ante-konzertreihe-7442912834176948615.html
END:VEVENT
END:VCALENDAR