BEGIN:VCALENDAR
VERSION:2.0
PRODID:EVENTFROG//EVENT//ICAL
BEGIN:VEVENT
UID:20260426T023849Z-7443030057419823025@eventfrog.de
DTSTAMP:20260426T023849Z
DTSTART:20260426T090000Z
DTEND:20260426T140000Z
SUMMARY:Flohdau in Modau
DESCRIPTION:Am 26.04.2026 findet der dezentrale Flohdau-Flohmarkt in Modau im Bereich Odenwald- und Kirchstrasse von 11 bis 16 Uhr statt.\n\nhttps://eventfrog.de/de/p/maerkte/flohmarkt/flohdau-in-modau-7443030057419823025.html
LOCATION:Flohdau in Modau
GEO:49.795152;8.740011
URL:https://eventfrog.de/de/p/maerkte/flohmarkt/flohdau-in-modau-7443030057419823025.html
END:VEVENT
END:VCALENDAR