BEGIN:VCALENDAR
VERSION:2.0
PRODID:EVENTFROG//EVENT//ICAL
BEGIN:VEVENT
UID:20260422T014200Z-7443968632953004698@eventfrog.de
DTSTAMP:20260422T014200Z
DTSTART:20261031T170000Z
DTEND:20261031T220000Z
SUMMARY:Elias J. Tv Europe Tour Zurich, Switzerland
DESCRIPTION:ELIAS J. Tv Band spielt am 31.10.2026 in Bülach mit Live-Musik und Tanz. Türen öffnen um 15 Uhr, Show von 18 bis 23 Uhr.\n\nhttps://eventfrog.de/en/p/concerts/other-music-genres/elias-j-tv-europe-tour-zurich-switzerland-7443968632953004698.html
LOCATION:Stadthalle Bülach, Zürich SWITZERLAND
GEO:47.515640;8.536455
URL:https://eventfrog.de/en/p/concerts/other-music-genres/elias-j-tv-europe-tour-zurich-switzerland-7443968632953004698.html
END:VEVENT
END:VCALENDAR