BEGIN:VCALENDAR
VERSION:2.0
PRODID:EVENTFROG//EVENT//ICAL
BEGIN:VEVENT
UID:20260422T013150Z-7444278570665383271@eventfrog.de
DTSTAMP:20260422T013150Z
DTSTART:20260502T150000Z
DTEND:20260502T220000Z
SUMMARY:Stand Up
DESCRIPTION:2 мая в Опфиконе выступит Джавид Курбанов со стендапом, ужином и живой музыкой. Начало в 17:00.\n\nhttps://eventfrog.de/de/p/partys/afterwork/stand-up-7444278570665383271.html
LOCATION:Golden mix Grill Restaurant
GEO:47.434680;8.567110
URL:https://eventfrog.de/de/p/partys/afterwork/stand-up-7444278570665383271.html
END:VEVENT
END:VCALENDAR