BEGIN:VCALENDAR
VERSION:2.0
PRODID:EVENTFROG//EVENT//ICAL
BEGIN:VEVENT
UID:20260425T204714Z-7444347404164327024@eventfrog.de
DTSTAMP:20260425T204714Z
DTSTART:20260627T070000Z
DTEND:20260628T160000Z
SUMMARY:Aqua Zen Retreat
DESCRIPTION:Zwei Tage Yoga, Watsu, Meditation und Atemarbeit in kleiner Gruppe am 27./28. Juni 2026 mit Mahlzeiten und Poolnutzung.\n\nhttps://eventfrog.de/de/p/gesundheit-spiritualitaet/gesundheit-wohlbefinden/aqua-zen-retreat-7444347404164327024.html
LOCATION:Aquadome
GEO:47.463561;7.592734
URL:https://eventfrog.de/de/p/gesundheit-spiritualitaet/gesundheit-wohlbefinden/aqua-zen-retreat-7444347404164327024.html
END:VEVENT
END:VCALENDAR