BEGIN:VCALENDAR
VERSION:2.0
PRODID:EVENTFROG//EVENT//ICAL
BEGIN:VEVENT
UID:20260422T013322Z-7444651869467639165@eventfrog.de
DTSTAMP:20260422T013322Z
DTSTART:20260508T153000Z
DTEND:20260508T190000Z
SUMMARY:Schokolade — süss oder bitter?
DESCRIPTION:Workshop zur Schokoladeherstellung und anschliessender Vortrag mit Degustation zu Macht und Politik hinter Schokolade.\n\nhttps://eventfrog.de/de/p/fuehrungen-vortraege/vortrag/schokolade-suess-oder-bitter-7444651869467639165.html
LOCATION:HertiLabor
GEO:47.521883;8.538194
URL:https://eventfrog.de/de/p/fuehrungen-vortraege/vortrag/schokolade-suess-oder-bitter-7444651869467639165.html
END:VEVENT
END:VCALENDAR