BEGIN:VCALENDAR
VERSION:2.0
PRODID:EVENTFROG//EVENT//ICAL
BEGIN:VEVENT
UID:20260425T203306Z-7444693320175979130@eventfrog.de
DTSTAMP:20260425T203306Z
DTSTART:20260529T171500Z
DTEND:20260529T215900Z
SUMMARY:1. Freiämter Honigjass
DESCRIPTION:Gemütlicher Jass-Abend im Lehrbienenstand Freiamt: Spiele Einzelschieber, geniesse einen Imbiss und sichere dir attraktive Preise – jeder gewinnt!\n\nhttps://eventfrog.de/de/p/freizeit-ausfluege/gruppen-spiele/1-freiaemter-honigjass-7444693320175979130.html
LOCATION:Lehrbienenstand Freiamt
GEO:47.237733;8.380618
URL:https://eventfrog.de/de/p/freizeit-ausfluege/gruppen-spiele/1-freiaemter-honigjass-7444693320175979130.html
END:VEVENT
END:VCALENDAR