BEGIN:VCALENDAR
VERSION:2.0
PRODID:EVENTFROG//EVENT//ICAL
BEGIN:VEVENT
UID:20260425T155645Z-7444741648427260454@eventfrog.de
DTSTAMP:20260425T155645Z
DTSTART:20260426T093000Z
DTEND:20260426T130000Z
SUMMARY:DISCO BRUNCH "The Beat goes Bärlauch"
DESCRIPTION:Mit DJ Sekt & Soul Martin Heilmann\nTauche ein in ein ganz besonderes Brunch Erlebnis voller Groove, Genuss und Grün - im Dorf am See.\n\n\nhttps://eventfrog.de/de/p/essen-trinken/disco-brunch-the-beat-goes-baerlauch-7444741648427260454.html
LOCATION:Seehotel Niedernberg
GEO:49.901387;9.124820
URL:https://eventfrog.de/de/p/essen-trinken/disco-brunch-the-beat-goes-baerlauch-7444741648427260454.html
END:VEVENT
END:VCALENDAR