BEGIN:VCALENDAR
VERSION:2.0
PRODID:EVENTFROG//EVENT//ICAL
BEGIN:VEVENT
UID:20260419T162503Z-7444756110144191023@eventfrog.de
DTSTAMP:20260419T162503Z
DTSTART:20260426T140000Z
DTEND:20260426T151500Z
SUMMARY:RaumKlangZeit
DESCRIPTION:CONSONO präsentiert 2026 ein kreatives Konzert mit Werken von Monteverdi, Verdi u.a. in einem mehrdimensionalen Raum- und Klangkonzept.\n\nhttps://eventfrog.de/de/p/klassik-opern/klassik/raumklangzeit-7444756110144191023.html
LOCATION:Groß St. Martin, Köln
GEO:50.938724;6.961620
URL:https://eventfrog.de/de/p/klassik-opern/klassik/raumklangzeit-7444756110144191023.html
END:VEVENT
END:VCALENDAR